BEGIN:VCALENDAR
VERSION:2.0
PRODID:spatie/icalendar-generator
DESCRIPTION:Veranstaltungen von IG Med e. V.
X-WR-CALDESC:Veranstaltungen von IG Med e. V.
REFRESH-INTERVAL;VALUE=DURATION:PT1440M
X-PUBLISHED-TTL:PT1440M
BEGIN:VTIMEZONE
TZID:Europe/Berlin
BEGIN:STANDARD
DTSTART:20181028T030000Z
TZOFFSETFROM:+0200
TZOFFSETTO:+0100
END:STANDARD
BEGIN:DAYLIGHT
DTSTART:20190331T020000Z
TZOFFSETFROM:+0100
TZOFFSETTO:+0200
END:DAYLIGHT
BEGIN:STANDARD
DTSTART:20191027T030000Z
TZOFFSETFROM:+0200
TZOFFSETTO:+0100
END:STANDARD
END:VTIMEZONE
BEGIN:VTIMEZONE
TZID:UTC
BEGIN:STANDARD
DTSTART:20250727T042213Z
TZOFFSETFROM:+0000
TZOFFSETTO:+0000
END:STANDARD
END:VTIMEZONE
BEGIN:VEVENT
UID:2-2
DTSTAMP:20260423T042213Z
SUMMARY:Deutscher Ärztetag 2019
LOCATION:
ORGANIZER;CN=Florian Hogenfeld:MAILTO:fh@hogenfeld.com
DTSTART;TZID=Europe/Berlin;VALUE=DATE:20190527
DTEND;TZID=Europe/Berlin;VALUE=DATE:20190601
X-ALT-DESC;FMTTYPE=TEXT/HTML:
CATEGORIES:General
URL;VALUE=URI:https://www.ig-med.de/my-calendar/?mc_id=2
METHOD:PUBLISH
END:VEVENT
BEGIN:VEVENT
UID:1-1
DTSTAMP:20260423T042213Z
SUMMARY:Webseiten-Demo
LOCATION:
ORGANIZER;CN=Florian Hogenfeld:MAILTO:fh@hogenfeld.com
DTSTART;TZID=Europe/Berlin:20190517T183000
DTEND;TZID=Europe/Berlin:20190517T193000
X-ALT-DESC;FMTTYPE=TEXT/HTML:
CATEGORIES:General
URL;VALUE=URI:https://www.ig-med.de/my-calendar/?mc_id=1
METHOD:PUBLISH
END:VEVENT
END:VCALENDAR